BEGIN:VCALENDAR
VERSION:2.0
PRODID:-//The Rhode Island Society of Professional Land Surveyors - ECPv6.15.18//NONSGML v1.0//EN
CALSCALE:GREGORIAN
METHOD:PUBLISH
X-ORIGINAL-URL:https://www.rispls.com
X-WR-CALDESC:Events for The Rhode Island Society of Professional Land Surveyors
REFRESH-INTERVAL;VALUE=DURATION:PT1H
X-Robots-Tag:noindex
X-PUBLISHED-TTL:PT1H
BEGIN:VTIMEZONE
TZID:America/New_York
BEGIN:DAYLIGHT
TZOFFSETFROM:-0500
TZOFFSETTO:-0400
TZNAME:EDT
DTSTART:20160313T070000
END:DAYLIGHT
BEGIN:STANDARD
TZOFFSETFROM:-0400
TZOFFSETTO:-0500
TZNAME:EST
DTSTART:20161106T060000
END:STANDARD
BEGIN:DAYLIGHT
TZOFFSETFROM:-0500
TZOFFSETTO:-0400
TZNAME:EDT
DTSTART:20170312T070000
END:DAYLIGHT
BEGIN:STANDARD
TZOFFSETFROM:-0400
TZOFFSETTO:-0500
TZNAME:EST
DTSTART:20171105T060000
END:STANDARD
BEGIN:DAYLIGHT
TZOFFSETFROM:-0500
TZOFFSETTO:-0400
TZNAME:EDT
DTSTART:20180311T070000
END:DAYLIGHT
BEGIN:STANDARD
TZOFFSETFROM:-0400
TZOFFSETTO:-0500
TZNAME:EST
DTSTART:20181104T060000
END:STANDARD
BEGIN:DAYLIGHT
TZOFFSETFROM:-0500
TZOFFSETTO:-0400
TZNAME:EDT
DTSTART:20190310T070000
END:DAYLIGHT
BEGIN:STANDARD
TZOFFSETFROM:-0400
TZOFFSETTO:-0500
TZNAME:EST
DTSTART:20191103T060000
END:STANDARD
BEGIN:DAYLIGHT
TZOFFSETFROM:-0500
TZOFFSETTO:-0400
TZNAME:EDT
DTSTART:20200308T070000
END:DAYLIGHT
BEGIN:STANDARD
TZOFFSETFROM:-0400
TZOFFSETTO:-0500
TZNAME:EST
DTSTART:20201101T060000
END:STANDARD
END:VTIMEZONE
BEGIN:VEVENT
DTSTART;TZID=America/New_York:20191212T173000
DTEND;TZID=America/New_York:20191212T200000
DTSTAMP:20260422T133717
CREATED:20191212T143854Z
LAST-MODIFIED:20191212T145223Z
UID:251-1576171800-1576180800@www.rispls.com
SUMMARY:BOD 12-12-2019
DESCRIPTION:The Rhode Island Society of Professional Land Surveyors (RISPLS) will hold a Board of Directors (BOD)  meeting on Thursday\, December 12\, 2019 at 5:30 PM at the RISPLS headquarters with dinner meeting to follow.
URL:https://www.rispls.com/event/bod-12-12-2019/
LOCATION:RISPLS Main Offices\, 410 Tiogue Avenue\, Coventry\, RI\, 02816\, United States
CATEGORIES:BOD,Events
END:VEVENT
BEGIN:VEVENT
DTSTART;TZID=America/New_York:20181101T173000
DTEND;TZID=America/New_York:20181101T200000
DTSTAMP:20260422T133717
CREATED:20180814T152200Z
LAST-MODIFIED:20180814T152200Z
UID:231-1541093400-1541102400@www.rispls.com
SUMMARY:RISPLS BOD MEETING
DESCRIPTION:
URL:https://www.rispls.com/event/rispls-bod-meeting-3/
LOCATION:RI
CATEGORIES:BOD
ORGANIZER;CN="RISPLS":MAILTO:rispls@hotmail.com
END:VEVENT
BEGIN:VEVENT
DTSTART;TZID=America/New_York:20181004T173000
DTEND;TZID=America/New_York:20181004T200000
DTSTAMP:20260422T133717
CREATED:20180814T151901Z
LAST-MODIFIED:20180814T151901Z
UID:229-1538674200-1538683200@www.rispls.com
SUMMARY:RISPLS BOD MEETING
DESCRIPTION:
URL:https://www.rispls.com/event/rispls-bod-meeting-2/
LOCATION:RISPLS Main Offices\, 410 Tiogue Avenue\, Coventry\, RI\, 02816\, United States
CATEGORIES:BOD
ORGANIZER;CN="RISPLS":MAILTO:rispls@hotmail.com
END:VEVENT
BEGIN:VEVENT
DTSTART;TZID=America/New_York:20180906T173000
DTEND;TZID=America/New_York:20180906T200000
DTSTAMP:20260422T133717
CREATED:20180814T150359Z
LAST-MODIFIED:20180814T150524Z
UID:225-1536255000-1536264000@www.rispls.com
SUMMARY:RISPLS BOD MEETING
DESCRIPTION:
URL:https://www.rispls.com/event/rispls-bod-meeting/
LOCATION:RISPLS Main Offices\, 410 Tiogue Avenue\, Coventry\, RI\, 02816\, United States
CATEGORIES:BOD
ORGANIZER;CN="RISPLS":MAILTO:rispls@hotmail.com
END:VEVENT
BEGIN:VEVENT
DTSTART;TZID=America/New_York:20171207T180000
DTEND;TZID=America/New_York:20171207T190000
DTSTAMP:20260422T133717
CREATED:20171212T193351Z
LAST-MODIFIED:20180813T212214Z
UID:168-1512669600-1512673200@www.rispls.com
SUMMARY:RISPLS BOD Meeting December 7\, 2017
DESCRIPTION:The Rhode Island Society of Professional Land Surveyors (RISPLS) announces its December 2017 Board of Directors (BOD) meeting:
URL:https://www.rispls.com/event/rispls-bod-meeting-december-7-2017/
LOCATION:RISPLS Main Offices\, 410 Tiogue Avenue\, Coventry\, RI\, 02816\, United States
CATEGORIES:BOD
ATTACH;FMTTYPE=image/gif:https://www.rispls.com/wp-content/uploads/2017/08/IMG_0019.gif
ORGANIZER;CN="RISPLS":MAILTO:rispls@hotmail.com
END:VEVENT
END:VCALENDAR