BEGIN:VCALENDAR
VERSION:2.0
PRODID:-//The Rhode Island Society of Professional Land Surveyors - ECPv6.15.20//NONSGML v1.0//EN
CALSCALE:GREGORIAN
METHOD:PUBLISH
X-ORIGINAL-URL:https://www.rispls.com
X-WR-CALDESC:Events for The Rhode Island Society of Professional Land Surveyors
REFRESH-INTERVAL;VALUE=DURATION:PT1H
X-Robots-Tag:noindex
X-PUBLISHED-TTL:PT1H
BEGIN:VTIMEZONE
TZID:America/New_York
BEGIN:DAYLIGHT
TZOFFSETFROM:-0500
TZOFFSETTO:-0400
TZNAME:EDT
DTSTART:20160313T070000
END:DAYLIGHT
BEGIN:STANDARD
TZOFFSETFROM:-0400
TZOFFSETTO:-0500
TZNAME:EST
DTSTART:20161106T060000
END:STANDARD
BEGIN:DAYLIGHT
TZOFFSETFROM:-0500
TZOFFSETTO:-0400
TZNAME:EDT
DTSTART:20170312T070000
END:DAYLIGHT
BEGIN:STANDARD
TZOFFSETFROM:-0400
TZOFFSETTO:-0500
TZNAME:EST
DTSTART:20171105T060000
END:STANDARD
BEGIN:DAYLIGHT
TZOFFSETFROM:-0500
TZOFFSETTO:-0400
TZNAME:EDT
DTSTART:20180311T070000
END:DAYLIGHT
BEGIN:STANDARD
TZOFFSETFROM:-0400
TZOFFSETTO:-0500
TZNAME:EST
DTSTART:20181104T060000
END:STANDARD
BEGIN:DAYLIGHT
TZOFFSETFROM:-0500
TZOFFSETTO:-0400
TZNAME:EDT
DTSTART:20190310T070000
END:DAYLIGHT
BEGIN:STANDARD
TZOFFSETFROM:-0400
TZOFFSETTO:-0500
TZNAME:EST
DTSTART:20191103T060000
END:STANDARD
BEGIN:DAYLIGHT
TZOFFSETFROM:-0500
TZOFFSETTO:-0400
TZNAME:EDT
DTSTART:20200308T070000
END:DAYLIGHT
BEGIN:STANDARD
TZOFFSETFROM:-0400
TZOFFSETTO:-0500
TZNAME:EST
DTSTART:20201101T060000
END:STANDARD
BEGIN:DAYLIGHT
TZOFFSETFROM:-0500
TZOFFSETTO:-0400
TZNAME:EDT
DTSTART:20210314T070000
END:DAYLIGHT
BEGIN:STANDARD
TZOFFSETFROM:-0400
TZOFFSETTO:-0500
TZNAME:EST
DTSTART:20211107T060000
END:STANDARD
END:VTIMEZONE
BEGIN:VEVENT
DTSTART;TZID=America/New_York:20200806T173000
DTEND;TZID=America/New_York:20200806T190000
DTSTAMP:20260424T071303
CREATED:20200102T154828Z
LAST-MODIFIED:20200102T171427Z
UID:272-1596735000-1596740400@www.rispls.com
SUMMARY:BOD 08-06-2020
DESCRIPTION:When:    August 6\, 2020 @ 5:30 pm – 7:00 pm\nWhere:  RISPLS Office – 410 Tiogue Avenue\, Coventry\, RI 02816 \nThe Rhode Island Society of Professional Land Surveyors (RISPLS) will hold a Board of Directors (BOD)  meeting on Thursday\, August 6\, 2020 at 5:30 PM at the RISPLS office located at 410 Tiogue Avenue\, Coventry\, RI 02816.
URL:https://www.rispls.com/event/bod-08-06-2020/
LOCATION:RISPLS Main Offices\, 410 Tiogue Avenue\, Coventry\, RI\, 02816\, United States
CATEGORIES:BOD
ORGANIZER;CN="RISPLS":MAILTO:rispls@hotmail.com
END:VEVENT
BEGIN:VEVENT
DTSTART;TZID=America/New_York:20200618T183000
DTEND;TZID=America/New_York:20200618T213000
DTSTAMP:20260424T071303
CREATED:20200102T173717Z
LAST-MODIFIED:20200102T173717Z
UID:300-1592505000-1592515800@www.rispls.com
SUMMARY:GMM 06-18-2020
DESCRIPTION:When: June 18\, 2020 @ 6:30 pm – 9:30 pm\nWhere: The Radisson Hotel – 2081 Post Road\, Warwick\, Rhode Island 02886 \nThe Rhode Island Society of Professional Land Surveyors (RISPLS) will hold General Membership Meeting on Thursday\, June 18\, 2020 with Cocktails & Registration 6:30pm  and Dinner Meeting 7-9:30pm. \nMeeting details to follow.
URL:https://www.rispls.com/event/gmm-06-18-2020/
LOCATION:Radisson Hotel\, Warwick RI\, 2081 Post Road\, Warwick\, RI\, 02886\, United States
CATEGORIES:Events,GMM
ORGANIZER;CN="RISPLS":MAILTO:rispls@hotmail.com
END:VEVENT
BEGIN:VEVENT
DTSTART;TZID=America/New_York:20200604T173000
DTEND;TZID=America/New_York:20200604T190000
DTSTAMP:20260424T071303
CREATED:20200102T154616Z
LAST-MODIFIED:20200102T171440Z
UID:270-1591291800-1591297200@www.rispls.com
SUMMARY:BOD 06-04-2020
DESCRIPTION:When:    June 4\, 2020 @ 5:30 pm – 7:00 pm\nWhere:  RISPLS Office – 410 Tiogue Avenue\, Coventry\, RI 02816 \nThe Rhode Island Society of Professional Land Surveyors (RISPLS) will hold a Board of Directors (BOD)  meeting on Thursday\, June 4\, 2020 at 5:30 PM at the RISPLS office located at 410 Tiogue Avenue\, Coventry\, RI 02816.
URL:https://www.rispls.com/event/bod-06-04-2020/
LOCATION:RISPLS Main Offices\, 410 Tiogue Avenue\, Coventry\, RI\, 02816\, United States
CATEGORIES:BOD
ORGANIZER;CN="RISPLS":MAILTO:rispls@hotmail.com
END:VEVENT
BEGIN:VEVENT
DTSTART;TZID=America/New_York:20200507T173000
DTEND;TZID=America/New_York:20200507T190000
DTSTAMP:20260424T071303
CREATED:20200102T154421Z
LAST-MODIFIED:20200102T171451Z
UID:268-1588872600-1588878000@www.rispls.com
SUMMARY:BOD 05-07-2020
DESCRIPTION:When:    May 7\, 2020 @ 5:30 pm – 7:00 pm\nWhere:  RISPLS Office – 410 Tiogue Avenue\, Coventry\, RI 02816 \nThe Rhode Island Society of Professional Land Surveyors (RISPLS) will hold a Board of Directors (BOD)  meeting on Thursday\, May 7\, 2020 at 5:30 PM at the RISPLS office located at 410 Tiogue Avenue\, Coventry\, RI 02816.
URL:https://www.rispls.com/event/bod-05-07-2020/
LOCATION:RISPLS Main Offices\, 410 Tiogue Avenue\, Coventry\, RI\, 02816\, United States
CATEGORIES:BOD
ORGANIZER;CN="RISPLS":MAILTO:rispls@hotmail.com
END:VEVENT
BEGIN:VEVENT
DTSTART;TZID=America/New_York:20200416T183000
DTEND;TZID=America/New_York:20200416T213000
DTSTAMP:20260424T071303
CREATED:20200102T173430Z
LAST-MODIFIED:20200102T173430Z
UID:298-1587061800-1587072600@www.rispls.com
SUMMARY:GMM 04-16-2020
DESCRIPTION:When: April 16\, 2020 @ 6:30 pm – 9:30 pm\nWhere: The Radisson Hotel – 2081 Post Road\, Warwick\, Rhode Island 02886 \nThe Rhode Island Society of Professional Land Surveyors (RISPLS) will hold General Membership Meeting on Thursday\, April 16\, 2020 with Cocktails & Registration 6:30pm  and Dinner Meeting 7-9:30pm. \nMeeting details to follow.
URL:https://www.rispls.com/event/gmm-04-16-2020/
LOCATION:Radisson Hotel\, Warwick RI\, 2081 Post Road\, Warwick\, RI\, 02886\, United States
CATEGORIES:Events,GMM
ORGANIZER;CN="RISPLS":MAILTO:rispls@hotmail.com
END:VEVENT
BEGIN:VEVENT
DTSTART;TZID=America/New_York:20200402T173000
DTEND;TZID=America/New_York:20200402T190000
DTSTAMP:20260424T071303
CREATED:20200102T154203Z
LAST-MODIFIED:20200102T171501Z
UID:266-1585848600-1585854000@www.rispls.com
SUMMARY:BOD 04-02-2020
DESCRIPTION:When:    April 2\, 2020 @ 5:30 pm – 7:00 pm\nWhere:  RISPLS Office – 410 Tiogue Avenue\, Coventry\, RI 02816 \nThe Rhode Island Society of Professional Land Surveyors (RISPLS) will hold a Board of Directors (BOD)  meeting on Thursday\, April 2\, 2020 at 5:30 PM at the RISPLS office located at 410 Tiogue Avenue\, Coventry\, RI 02816.
URL:https://www.rispls.com/event/bod-04-02-2020/
LOCATION:RISPLS Main Offices\, 410 Tiogue Avenue\, Coventry\, RI\, 02816\, United States
CATEGORIES:BOD
ORGANIZER;CN="RISPLS":MAILTO:rispls@hotmail.com
END:VEVENT
BEGIN:VEVENT
DTSTART;TZID=America/New_York:20200305T173000
DTEND;TZID=America/New_York:20200305T190000
DTSTAMP:20260424T071303
CREATED:20200102T153816Z
LAST-MODIFIED:20200102T171512Z
UID:264-1583429400-1583434800@www.rispls.com
SUMMARY:BOD 03-05-2020
DESCRIPTION:When:    March 5\, 2020 @ 5:30 pm – 7:00 pm\nWhere:  RISPLS Office – 410 Tiogue Avenue\, Coventry\, RI 02816 \nThe Rhode Island Society of Professional Land Surveyors (RISPLS) will hold a Board of Directors (BOD)  meeting on Thursday\, March 5\, 2020 at 5:30 PM at the RISPLS office located at 410 Tiogue Avenue\, Coventry\, RI 02816.
URL:https://www.rispls.com/event/bod-03-05-2020/
LOCATION:RISPLS Main Offices\, 410 Tiogue Avenue\, Coventry\, RI\, 02816\, United States
CATEGORIES:BOD
ORGANIZER;CN="RISPLS":MAILTO:rispls@hotmail.com
END:VEVENT
BEGIN:VEVENT
DTSTART;TZID=America/New_York:20200220T183000
DTEND;TZID=America/New_York:20200220T213000
DTSTAMP:20260424T071303
CREATED:20200102T172145Z
LAST-MODIFIED:20200213T040229Z
UID:293-1582223400-1582234200@www.rispls.com
SUMMARY:GMM 02-20-2020
DESCRIPTION:When: February 20\, 2020 @ 6:30 pm – 9:30 pm\nWhere: The Radisson Hotel – 2081 Post Road\, Warwick\, Rhode Island 02886 \nThe Rhode Island Society of Professional Land Surveyors (RISPLS) will hold General Membership Meeting on Thursday\, February 20\, 2020 with Cocktails & Registration 6:30pm  and Dinner Meeting 7-9:30pm. \n“Round Table Discussion” \nPlease join us for a discussion regarding the publication of the 50th Anniversary Edition of the BLUE BOOK (1.5 PDH Certificate) \nRISPLS Members-GMM & Dinner : $55___ Non Members-GMM & Dinner: $65___ \nRISPLS Members-GMM ONLY $15 ____  Non Members-GMM ONLY $40 _____ \nStudents:  FREE ______ \n**Late Fee of $10 if received after February 14\, 2020** \nClick here to download the RISPLS GMM FEB 2020 INVITE
URL:https://www.rispls.com/event/gmm-02-20-2020/
LOCATION:Radisson Hotel\, Warwick RI\, 2081 Post Road\, Warwick\, RI\, 02886\, United States
CATEGORIES:Events,GMM
ORGANIZER;CN="RISPLS":MAILTO:rispls@hotmail.com
END:VEVENT
BEGIN:VEVENT
DTSTART;TZID=America/New_York:20200206T173000
DTEND;TZID=America/New_York:20200206T190000
DTSTAMP:20260424T071303
CREATED:20200102T153524Z
LAST-MODIFIED:20200102T171521Z
UID:262-1581010200-1581015600@www.rispls.com
SUMMARY:BOD 02-06-2020
DESCRIPTION:When:    February 6\, 2020 @ 5:30 pm – 7:00 pm\nWhere:  RISPLS Office – 410 Tiogue Avenue\, Coventry\, RI 02816 \nThe Rhode Island Society of Professional Land Surveyors (RISPLS) will hold a Board of Directors (BOD)  meeting on Thursday\, February 6\, 2020 at 5:30 PM at the RISPLS office located at 410 Tiogue Avenue\, Coventry\, RI 02816.
URL:https://www.rispls.com/event/bod-02-06-2020/
LOCATION:RISPLS Main Offices\, 410 Tiogue Avenue\, Coventry\, RI\, 02816\, United States
CATEGORIES:BOD
ORGANIZER;CN="RISPLS":MAILTO:rispls@hotmail.com
END:VEVENT
BEGIN:VEVENT
DTSTART;TZID=America/New_York:20200109T173000
DTEND;TZID=America/New_York:20200109T190000
DTSTAMP:20260424T071303
CREATED:20200102T144758Z
LAST-MODIFIED:20200102T181628Z
UID:260-1578591000-1578596400@www.rispls.com
SUMMARY:BOD 01-09-2020
DESCRIPTION:When:    January 9\, 2020 @ 5:30 pm – 7:00 pm\nWhere:  RISPLS Office – 410 Tiogue Avenue\, Coventry\, RI 02816 \nThe Rhode Island Society of Professional Land Surveyors (RISPLS) will hold a Board of Directors (BOD)  meeting on Thursday\, January 9\, 2020 at 5:30 PM at the RISPLS office located at 410 Tiogue Avenue\, Coventry\, RI 02816.
URL:https://www.rispls.com/event/bod-01-09-2020/
LOCATION:RISPLS Main Offices\, 410 Tiogue Avenue\, Coventry\, RI\, 02816\, United States
CATEGORIES:BOD
ORGANIZER;CN="RISPLS":MAILTO:rispls@hotmail.com
END:VEVENT
BEGIN:VEVENT
DTSTART;VALUE=DATE:20200104
DTEND;VALUE=DATE:20200105
DTSTAMP:20260424T071303
CREATED:20200102T180835Z
LAST-MODIFIED:20200102T180835Z
UID:309-1578096000-1578182399@www.rispls.com
SUMMARY:RI Boy Scouts Merit Badge College 01-04-2020
DESCRIPTION:Members of the Rhode Island Society of Professional Land Surveyors (RISPLS) will attend the RI Boy Scouts Merit Badge College  on Saturday January 4\, 2020 to assist scouts in obtaining their Surveying merit badge.
URL:https://www.rispls.com/event/ri-boy-scouts-merit-badge-college-01-04-2020/
LOCATION:Donovan Dining Center\, Rhode Island College\, North Providence\, RI\, 600 Mt Pleasant Avenue\, Providence\, RI\, 02911\, United States
CATEGORIES:Events
ORGANIZER;CN="RISPLS":MAILTO:rispls@hotmail.com
END:VEVENT
BEGIN:VEVENT
DTSTART;TZID=America/New_York:20191212T173000
DTEND;TZID=America/New_York:20191212T200000
DTSTAMP:20260424T071303
CREATED:20191212T143854Z
LAST-MODIFIED:20191212T145223Z
UID:251-1576171800-1576180800@www.rispls.com
SUMMARY:BOD 12-12-2019
DESCRIPTION:The Rhode Island Society of Professional Land Surveyors (RISPLS) will hold a Board of Directors (BOD)  meeting on Thursday\, December 12\, 2019 at 5:30 PM at the RISPLS headquarters with dinner meeting to follow.
URL:https://www.rispls.com/event/bod-12-12-2019/
LOCATION:RISPLS Main Offices\, 410 Tiogue Avenue\, Coventry\, RI\, 02816\, United States
CATEGORIES:BOD,Events
END:VEVENT
BEGIN:VEVENT
DTSTART;VALUE=DATE:20191122
DTEND;VALUE=DATE:20191123
DTSTAMP:20260424T071303
CREATED:20190919T034235Z
LAST-MODIFIED:20190919T034541Z
UID:241-1574380800-1574467199@www.rispls.com
SUMMARY:RISPLS 49th Annual Meeting & Conference Friday\, November 22\, 2019
DESCRIPTION:What: RISPLS 49th Annual Meeting & Conference\nWhen: Friday\, November 22\, 2019\nWhere: Crown Plaza Hotel\, Warwick\, RI \nJoin us for the RISPLS 49th Annual Meeting & Conference on Friday\, November 22\, 2019 at the Crown Plaza Hotel\, Warwick RI. \nSeminars\, GMM\, Vendors\, Awards and Scholarship Auction! \nIf you have nominations for the 2019 Awards please email the office with name(s) and brief description of why he or she is deserving of the 2019 RISPLS Awards by November 1\, 2019: \n\nSurveyor of the Year\nTechnician of the Year\nClerk of the Year
URL:https://www.rispls.com/event/rispls-49th-annual-meeting-conference-friday-november-22-2019/
LOCATION:Crown Plaza Hotel\, 801 Greenwich Avenue\, Warwick\, RI\, 02886
CATEGORIES:Events
ORGANIZER;CN="RISPLS":MAILTO:rispls@hotmail.com
END:VEVENT
BEGIN:VEVENT
DTSTART;TZID=America/New_York:20190926T183000
DTEND;TZID=America/New_York:20190926T213000
DTSTAMP:20260424T071303
CREATED:20190919T025417Z
LAST-MODIFIED:20190924T135946Z
UID:237-1569522600-1569533400@www.rispls.com
SUMMARY:General Membership Meeting & Seminar Thursday\, September 26\, 2019
DESCRIPTION:When: Thursday\, September 26\, 2019\nWhere: The Radisson Hotel\, 2081 Post Road\, Warwick Rhode Island 02886 \n“GENERAL DISCUSSION”\nGMM Attendance Certificate \nNominations & Voting for RISPLS Officers & Board of Directors\nRISPLS Members-GMM & DINNER : $55___ Non Members-GMM & DINNER: $65___\nRISPLS Members-GMM ONLY $15 ____ Non Members-GMM ONLY $40 _____ \nStudents: FREE ______ \nIf you’d like to Sponsor a Student: $35 ______\n**Late Fee of $10 if received after September 20\, 2019**
URL:https://www.rispls.com/event/general-membership-meeting-seminar-thursday-september-26-2019/
LOCATION:Radisson Hotel\, Warwick RI\, 2081 Post Road\, Warwick\, RI\, 02886\, United States
CATEGORIES:Events,GMM
ORGANIZER;CN="RISPLS":MAILTO:rispls@hotmail.com
END:VEVENT
BEGIN:VEVENT
DTSTART;VALUE=DATE:20181116
DTEND;VALUE=DATE:20181117
DTSTAMP:20260424T071303
CREATED:20180814T151632Z
LAST-MODIFIED:20180814T151632Z
UID:227-1542326400-1542412799@www.rispls.com
SUMMARY:RISPLS 48th Annual Convention
DESCRIPTION:Mark your calendars!\nRISPLS 48th Annual Convention\n 11/16/18 All Day Event\nMore details coming soon!\n*Seminars * Vendors * Scholarship Auction
URL:https://www.rispls.com/event/rispls-48th-annual-convention/
LOCATION:Radisson Hotel\, Warwick RI\, 2081 Post Road\, Warwick\, RI\, 02886\, United States
CATEGORIES:Events
ORGANIZER;CN="RISPLS":MAILTO:rispls@hotmail.com
END:VEVENT
BEGIN:VEVENT
DTSTART;TZID=America/New_York:20181101T173000
DTEND;TZID=America/New_York:20181101T200000
DTSTAMP:20260424T071303
CREATED:20180814T152200Z
LAST-MODIFIED:20180814T152200Z
UID:231-1541093400-1541102400@www.rispls.com
SUMMARY:RISPLS BOD MEETING
DESCRIPTION:
URL:https://www.rispls.com/event/rispls-bod-meeting-3/
CATEGORIES:BOD
ORGANIZER;CN="RISPLS":MAILTO:rispls@hotmail.com
END:VEVENT
BEGIN:VEVENT
DTSTART;TZID=America/New_York:20181004T173000
DTEND;TZID=America/New_York:20181004T200000
DTSTAMP:20260424T071303
CREATED:20180814T151901Z
LAST-MODIFIED:20180814T151901Z
UID:229-1538674200-1538683200@www.rispls.com
SUMMARY:RISPLS BOD MEETING
DESCRIPTION:
URL:https://www.rispls.com/event/rispls-bod-meeting-2/
LOCATION:RISPLS Main Offices\, 410 Tiogue Avenue\, Coventry\, RI\, 02816\, United States
CATEGORIES:BOD
ORGANIZER;CN="RISPLS":MAILTO:rispls@hotmail.com
END:VEVENT
BEGIN:VEVENT
DTSTART;TZID=America/New_York:20180920T183000
DTEND;TZID=America/New_York:20180920T210000
DTSTAMP:20260424T071303
CREATED:20180814T150110Z
LAST-MODIFIED:20180814T150110Z
UID:214-1537468200-1537477200@www.rispls.com
SUMMARY:RISPLS September General Membership Meeting
DESCRIPTION:GMM SEPT INVITE
URL:https://www.rispls.com/event/rispls-september-general-membership-meeting/
LOCATION:Radisson Hotel\, Warwick RI\, 2081 Post Road\, Warwick\, RI\, 02886\, United States
CATEGORIES:GMM
ORGANIZER;CN="RISPLS":MAILTO:rispls@hotmail.com
END:VEVENT
BEGIN:VEVENT
DTSTART;TZID=America/New_York:20180906T173000
DTEND;TZID=America/New_York:20180906T200000
DTSTAMP:20260424T071303
CREATED:20180814T150359Z
LAST-MODIFIED:20180814T150524Z
UID:225-1536255000-1536264000@www.rispls.com
SUMMARY:RISPLS BOD MEETING
DESCRIPTION:
URL:https://www.rispls.com/event/rispls-bod-meeting/
LOCATION:RISPLS Main Offices\, 410 Tiogue Avenue\, Coventry\, RI\, 02816\, United States
CATEGORIES:BOD
ORGANIZER;CN="RISPLS":MAILTO:rispls@hotmail.com
END:VEVENT
BEGIN:VEVENT
DTSTART;TZID=America/New_York:20171207T180000
DTEND;TZID=America/New_York:20171207T190000
DTSTAMP:20260424T071303
CREATED:20171212T193351Z
LAST-MODIFIED:20180813T212214Z
UID:168-1512669600-1512673200@www.rispls.com
SUMMARY:RISPLS BOD Meeting December 7\, 2017
DESCRIPTION:The Rhode Island Society of Professional Land Surveyors (RISPLS) announces its December 2017 Board of Directors (BOD) meeting:
URL:https://www.rispls.com/event/rispls-bod-meeting-december-7-2017/
LOCATION:RISPLS Main Offices\, 410 Tiogue Avenue\, Coventry\, RI\, 02816\, United States
CATEGORIES:BOD
ATTACH;FMTTYPE=image/gif:https://www.rispls.com/wp-content/uploads/2017/08/IMG_0019.gif
ORGANIZER;CN="RISPLS":MAILTO:rispls@hotmail.com
END:VEVENT
END:VCALENDAR